BEGIN:VCALENDAR
VERSION:2.0
PRODID:-//Skagit Habitat for Humanity - ECPv6.15.20//NONSGML v1.0//EN
CALSCALE:GREGORIAN
METHOD:PUBLISH
X-WR-CALNAME:Skagit Habitat for Humanity
X-ORIGINAL-URL:https://www.skagithabitat.com
X-WR-CALDESC:Events for Skagit Habitat for Humanity
REFRESH-INTERVAL;VALUE=DURATION:PT1H
X-Robots-Tag:noindex
X-PUBLISHED-TTL:PT1H
BEGIN:VTIMEZONE
TZID:America/Los_Angeles
BEGIN:DAYLIGHT
TZOFFSETFROM:-0800
TZOFFSETTO:-0700
TZNAME:PDT
DTSTART:20230312T100000
END:DAYLIGHT
BEGIN:STANDARD
TZOFFSETFROM:-0700
TZOFFSETTO:-0800
TZNAME:PST
DTSTART:20231105T090000
END:STANDARD
BEGIN:DAYLIGHT
TZOFFSETFROM:-0800
TZOFFSETTO:-0700
TZNAME:PDT
DTSTART:20240310T100000
END:DAYLIGHT
BEGIN:STANDARD
TZOFFSETFROM:-0700
TZOFFSETTO:-0800
TZNAME:PST
DTSTART:20241103T090000
END:STANDARD
BEGIN:DAYLIGHT
TZOFFSETFROM:-0800
TZOFFSETTO:-0700
TZNAME:PDT
DTSTART:20250309T100000
END:DAYLIGHT
BEGIN:STANDARD
TZOFFSETFROM:-0700
TZOFFSETTO:-0800
TZNAME:PST
DTSTART:20251102T090000
END:STANDARD
END:VTIMEZONE
BEGIN:VEVENT
DTSTART;TZID=America/Los_Angeles:20241026T110000
DTEND;TZID=America/Los_Angeles:20241026T110000
DTSTAMP:20260421T110305
CREATED:20241003T163014Z
LAST-MODIFIED:20241003T163014Z
UID:1456-1729940400-1729940400@www.skagithabitat.com
SUMMARY:Groundbreaking Ceremony - La Conner
DESCRIPTION:Join Us for a Groundbreaking Ceremony in La Conner! \nYou’re invited to celebrate an exciting milestone with us on Saturday\, October 26th at 11 am as we break ground on three new permanently affordable homes! This marks the beginning of an incredible journey for our three newest homebuyers and the start of their future homes. \nThe ceremony\, held at the corner of Caledonia and S. Third Street\, will feature remarks from local government officials\, Skagit Habitat team members\, and the homebuyers themselves. Each family will participate by breaking ground on their respective lots\, using special golden shovels designed for the occasion.
URL:https://www.skagithabitat.com/event/groundbreaking-ceremony-la-conner/
LOCATION:Corner of S. 3rd St. and Caledonia St.\, S. 3rd St. and Caledonia St.\, La Conner\, WA\, United States
ATTACH;FMTTYPE=image/png:https://www.skagithabitat.com/wp-content/uploads/Ground-Breaking-Final-2.png
ORGANIZER;CN="Skagit Habitat for Humanity":MAILTO:resource@skagithabitat.com
END:VEVENT
END:VCALENDAR