BEGIN:VCALENDAR
VERSION:2.0
PRODID:-//Skagit Habitat for Humanity - ECPv6.15.20//NONSGML v1.0//EN
CALSCALE:GREGORIAN
METHOD:PUBLISH
X-ORIGINAL-URL:https://www.skagithabitat.com
X-WR-CALDESC:Events for Skagit Habitat for Humanity
REFRESH-INTERVAL;VALUE=DURATION:PT1H
X-Robots-Tag:noindex
X-PUBLISHED-TTL:PT1H
BEGIN:VTIMEZONE
TZID:America/Los_Angeles
BEGIN:DAYLIGHT
TZOFFSETFROM:-0800
TZOFFSETTO:-0700
TZNAME:PDT
DTSTART:20240310T100000
END:DAYLIGHT
BEGIN:STANDARD
TZOFFSETFROM:-0700
TZOFFSETTO:-0800
TZNAME:PST
DTSTART:20241103T090000
END:STANDARD
BEGIN:DAYLIGHT
TZOFFSETFROM:-0800
TZOFFSETTO:-0700
TZNAME:PDT
DTSTART:20250309T100000
END:DAYLIGHT
BEGIN:STANDARD
TZOFFSETFROM:-0700
TZOFFSETTO:-0800
TZNAME:PST
DTSTART:20251102T090000
END:STANDARD
BEGIN:DAYLIGHT
TZOFFSETFROM:-0800
TZOFFSETTO:-0700
TZNAME:PDT
DTSTART:20260308T100000
END:DAYLIGHT
BEGIN:STANDARD
TZOFFSETFROM:-0700
TZOFFSETTO:-0800
TZNAME:PST
DTSTART:20261101T090000
END:STANDARD
END:VTIMEZONE
BEGIN:VEVENT
DTSTART;TZID=America/Los_Angeles:20250301T110000
DTEND;TZID=America/Los_Angeles:20250301T130000
DTSTAMP:20260421T030335
CREATED:20250123T173711Z
LAST-MODIFIED:20250124T165042Z
UID:2040-1740826800-1740834000@www.skagithabitat.com
SUMMARY:Affordable Housing Orientation - Anacortes
DESCRIPTION:Join a panel of Skagit Habitat for Humanity staff and volunteers on March 1st at the Anacortes Senior Activity Center at 11 am to learn about affordable homeownership opportunities in Anacortes. These cottage-style homes will have 2 bedrooms\, 1.5 baths\, and two stories. We’ll select applicants earning between 70% and 80% of the Area Median Income. Before attending\, check if you meet the qualifications for our Anacortes Construction project: \n\nHousehold Size \nOne to four people. No more than two children in a room. Children of the opposite sex cannot share a bedroom. \nResidency \nReside in Skagit County for at least one year and are a permanent legal resident. \nNeed \nCurrently live in substandard housing or paying 50% or more of income on rent. \nWillingness to Partner \n\nMust complete 150 hours of sweat equity labor volunteering for Skagit Habitat. \n\nCredit and Debt-to-Income (DTI) \nHave a credit score of 620 or higher And a debt-to-income ratio of 43% or lower. \n2 Year Work History \nHave a two-year record of income in the same job or career field. To find income qualifications\, click here. \nFor Questions:  \nEmail: Program.manager@skagithabitat.com \nCall: 360-428-9402 ext.113
URL:https://www.skagithabitat.com/event/affordable-housing-orientation-anacortes-2/
LOCATION:Anacortes Senior Activity Center\, 1701 22nd St\, Anacortes\, WA\, 98221\, United States
ATTACH;FMTTYPE=image/png:https://www.skagithabitat.com/wp-content/uploads/Affordable-Housing-Orientation-Event-Thumbnail.png
ORGANIZER;CN="Skagit Habitat for Humanity":MAILTO:resource@skagithabitat.com
END:VEVENT
END:VCALENDAR